BEGIN:VCALENDAR
VERSION:2.0
PRODID:-//dhtmlXScheduler//NONSGML v2.2//EN
X-WR-CALNAME:Wydarzenia
BEGIN:VEVENT
DTSTART:20231019T092000
DTEND:20231019T104500
UID:1
SUMMARY:Wykład z elementami warsztatowymi: Sztuka pisania cv - pokaż swoje talenty i mocne strony!
END:VEVENT
END:VCALENDAR